BEGIN:VCALENDAR
VERSION:2.0
PRODID:-//Gravel Girona - ECPv6.15.19//NONSGML v1.0//EN
CALSCALE:GREGORIAN
METHOD:PUBLISH
X-WR-CALNAME:Gravel Girona
X-ORIGINAL-URL:https://staging.gravelgirona.com
X-WR-CALDESC:Events for Gravel Girona
REFRESH-INTERVAL;VALUE=DURATION:PT1H
X-Robots-Tag:noindex
X-PUBLISHED-TTL:PT1H
BEGIN:VTIMEZONE
TZID:Europe/Amsterdam
BEGIN:DAYLIGHT
TZOFFSETFROM:+0100
TZOFFSETTO:+0200
TZNAME:CEST
DTSTART:20220327T010000
END:DAYLIGHT
BEGIN:STANDARD
TZOFFSETFROM:+0200
TZOFFSETTO:+0100
TZNAME:CET
DTSTART:20221030T010000
END:STANDARD
BEGIN:DAYLIGHT
TZOFFSETFROM:+0100
TZOFFSETTO:+0200
TZNAME:CEST
DTSTART:20230326T010000
END:DAYLIGHT
BEGIN:STANDARD
TZOFFSETFROM:+0200
TZOFFSETTO:+0100
TZNAME:CET
DTSTART:20231029T010000
END:STANDARD
BEGIN:DAYLIGHT
TZOFFSETFROM:+0100
TZOFFSETTO:+0200
TZNAME:CEST
DTSTART:20240331T010000
END:DAYLIGHT
BEGIN:STANDARD
TZOFFSETFROM:+0200
TZOFFSETTO:+0100
TZNAME:CET
DTSTART:20241027T010000
END:STANDARD
END:VTIMEZONE
BEGIN:VEVENT
DTSTART;TZID=Europe/Amsterdam:20230405T080000
DTEND;TZID=Europe/Amsterdam:20230405T183000
DTSTAMP:20260424T165811
CREATED:20230214T141710Z
LAST-MODIFIED:20230214T141711Z
UID:1091-1680681600-1680719400@staging.gravelgirona.com
SUMMARY:Montseny
DESCRIPTION:Embark on a breathtaking gravel cycling adventure to Turo de l’Home and Montseny. These routes offer challenging yet rewarding terrain\, showcasing stunning views of the surrounding natural landscapes. Gravel Girona’s expert guides provide insider knowledge of the best routes\, ensuring clients have a safe and enjoyable experience.  \n\n\n\n \n\n\n\nAlong the way\, clients can indulge in delicious local cuisine at the region’s top restaurants and unwind in comfortable accommodations. Don’t forget to capture the unforgettable moments through stunning photos that showcase the beauty of the Catalan countryside.
URL:https://staging.gravelgirona.com/event/montseny/
LOCATION:Lapsus Cafè\, Lapsus Cafè\, Girona\, Catalunya\, 17001\, Spain
CATEGORIES:Social Gravel
ATTACH;FMTTYPE=image/jpeg:https://staging.gravelgirona.com/wp-content/uploads/2023/02/home-montseny-large.jpg
END:VEVENT
BEGIN:VEVENT
DTSTART;TZID=Europe/Amsterdam:20230225T080000
DTEND;TZID=Europe/Amsterdam:20230225T143000
DTSTAMP:20260424T165811
CREATED:20230214T140032Z
LAST-MODIFIED:20230214T144444Z
UID:1081-1677312000-1677335400@staging.gravelgirona.com
SUMMARY:Gravet Series
DESCRIPTION:No farem cap reagrupament en el recorregut.Ens reagruparem tots en el Golden Chrismas Market\, ells col.laboren amb la causa oferint-nos l’entrada gratuïta (heu d’ensenyar el tiquet a l’entrada) i la xocolata amb xurros.En el Golden Chrismas Market tindrem un lloc reservat per les bicicletes i qui ho desitgi podrà fer un tom pel mercat i quedar-se a dinar en algun food track.En El Golden Chrismas market farem una foto de grup per enviar a TV3. La farem cap a les 13h.Després de la foto donarem per finalitzada la sortida\, si seguiu el track us portarà a Girona.
URL:https://staging.gravelgirona.com/event/gravet-series/
LOCATION:Lapsus Cafè\, Lapsus Cafè\, Girona\, Catalunya\, 17001\, Spain
CATEGORIES:Social Gravel
ATTACH;FMTTYPE=image/jpeg:https://staging.gravelgirona.com/wp-content/uploads/2023/01/2-scaled-1.jpeg
END:VEVENT
BEGIN:VEVENT
DTSTART;TZID=Europe/Amsterdam:20230211T080000
DTEND;TZID=Europe/Amsterdam:20230211T143000
DTSTAMP:20260424T165811
CREATED:20230208T105308Z
LAST-MODIFIED:20230208T111421Z
UID:1032-1676102400-1676125800@staging.gravelgirona.com
SUMMARY:Gravet Series
DESCRIPTION:No farem cap reagrupament en el recorregut.Ens reagruparem tots en el Golden Chrismas Market\, ells col.laboren amb la causa oferint-nos l’entrada gratuïta (heu d’ensenyar el tiquet a l’entrada) i la xocolata amb xurros.En el Golden Chrismas Market tindrem un lloc reservat per les bicicletes i qui ho desitgi podrà fer un tom pel mercat i quedar-se a dinar en algun food track.En El Golden Chrismas market farem una foto de grup per enviar a TV3. La farem cap a les 13h.Després de la foto donarem per finalitzada la sortida\, si seguiu el track us portarà a Girona.
URL:https://staging.gravelgirona.com/event/gravet-series-202303/
LOCATION:Lapsus Cafè\, Lapsus Cafè\, Girona\, Catalunya\, 17001\, Spain
CATEGORIES:Social Gravel
ATTACH;FMTTYPE=image/jpeg:https://staging.gravelgirona.com/wp-content/uploads/2023/02/home-montseny-large.jpg
END:VEVENT
END:VCALENDAR